BEGIN:VCALENDAR
VERSION:2.0
PRODID:-//wp-events-plugin.com//7.2.2.1//EN
BEGIN:VEVENT
UID:53@edgewaterhealth.org
DTSTART;TZID=America/Indiana/Tell_City;VALUE=DATE:20250707
DTEND;TZID=America/Indiana/Tell_City;VALUE=DATE:20250712
DTSTAMP:20250708T183604Z
URL:https://edgewaterhealth.org/events/my-brothers-keeper-sailing-camp/
SUMMARY:My Brother's Keeper Sailing Camp
DESCRIPTION:My Brother's Keeper sailing camp and kayaking activities with t
 he Indiana Sailing Association.
ATTACH;FMTTYPE=image/jpeg:https://edgewaterhealth.org/wp-content/uploads/2
 025/07/Sailing-Camp-July-7-2025-scaled.jpg
CATEGORIES:MBK Community Events
LOCATION:East Chicago Marina\, 3301 Aldis Street\, East Chicago\, IN\, 4631
 2\, United States
X-APPLE-STRUCTURED-LOCATION;VALUE=URI;X-ADDRESS=3301 Aldis Street\, East Ch
 icago\, IN\, 46312\, United States;X-APPLE-RADIUS=100;X-TITLE=East Chicago
  Marina:geo:0,0
END:VEVENT
BEGIN:VTIMEZONE
TZID:America/Indiana/Tell_City
X-LIC-LOCATION:America/Indiana/Tell_City
BEGIN:DAYLIGHT
DTSTART:20250309T030000
TZOFFSETFROM:-0600
TZOFFSETTO:-0500
TZNAME:CDT
END:DAYLIGHT
END:VTIMEZONE
END:VCALENDAR