BEGIN:VCALENDAR
VERSION:2.0
PRODID:-//wp-events-plugin.com//7.2.2.1//EN
BEGIN:VEVENT
UID:20@edgewaterhealth.org
DTSTART;TZID=America/Indiana/Tell_City:20241112T083000
DTEND;TZID=America/Indiana/Tell_City:20241112T103000
DTSTAMP:20241001T131746Z
URL:https://edgewaterhealth.org/events/my-brothers-keeper-roundtable-meeti
 ng-2024-11-12/
SUMMARY:My Brother’s Keeper Roundtable Meeting
DESCRIPTION:Monthly My Brother's Keeper Lake County\, IN roundtable meeting
  by invitation.
CATEGORIES:MBK Roundtable Meetings
LOCATION:Purdue Extension\, 2291 N. Main Street\, Crown Point\, IN\, 46307\
 , United States
GEO:41.44745;-87.364919
X-APPLE-STRUCTURED-LOCATION;VALUE=URI;X-ADDRESS=2291 N. Main Street\, Crown
  Point\, IN\, 46307\, United States;X-APPLE-RADIUS=100;X-TITLE=Purdue Exte
 nsion:geo:41.44745,-87.364919
END:VEVENT
BEGIN:VTIMEZONE
TZID:America/Indiana/Tell_City
X-LIC-LOCATION:America/Indiana/Tell_City
BEGIN:STANDARD
DTSTART:20241103T010000
TZOFFSETFROM:-0500
TZOFFSETTO:-0600
TZNAME:CST
END:STANDARD
END:VTIMEZONE
END:VCALENDAR