BEGIN:VCALENDAR
VERSION:2.0
PRODID:-//wp-events-plugin.com//7.2.2.1//EN
BEGIN:VEVENT
UID:32@edgewaterhealth.org
DTSTART;TZID=America/Indiana/Tell_City:20241213T130000
DTEND;TZID=America/Indiana/Tell_City:20241213T160000
DTSTAMP:20241210T231035Z
URL:https://edgewaterhealth.org/events/clothing-giveaway/
SUMMARY:Clothing Giveaway
DESCRIPTION:City Life Center presents a Clothing Giveaway offering clothes\
 , shoes\, hats\, bags\, scarves and other accessories for all ages.
ATTACH;FMTTYPE=image/jpeg:https://edgewaterhealth.org/wp-content/uploads/2
 024/12/Clothing-Giveaway-Flyer.jpg
CATEGORIES:Events
LOCATION:City Life Center\, NWI\, 225 W. 5th Avenue\, Gary\, IN\, 46402\, U
 nited States
X-APPLE-STRUCTURED-LOCATION;VALUE=URI;X-ADDRESS=225 W. 5th Avenue\, Gary\, 
 IN\, 46402\, United States;X-APPLE-RADIUS=100;X-TITLE=City Life Center\, N
 WI:geo:0,0
END:VEVENT
BEGIN:VTIMEZONE
TZID:America/Indiana/Tell_City
X-LIC-LOCATION:America/Indiana/Tell_City
BEGIN:STANDARD
DTSTART:20241103T010000
TZOFFSETFROM:-0500
TZOFFSETTO:-0600
TZNAME:CST
END:STANDARD
END:VTIMEZONE
END:VCALENDAR